BEGIN:VCALENDAR
VERSION:2.0
PRODID:-//Tukios.com/
BEGIN:VEVENT
UID:4e2ff6d4-c6d8-4c95-855f-7aaf4ecac4db@www.randallroberts.com
DTSTAMP:20260420T183946Z
DTSTART:20260424T180000Z
DTEND:20260424T190000Z
SUMMARY:Celebration of Life
DESCRIPTION:
URL:https://www.randallroberts.com/obituaries/susan-scott
LOCATION:Randall & Roberts Funeral Center 1685 Westfield Rd  Noblesville 
	IN 46062
GEO:40.0428562;-86.0476892
END:VEVENT
END:VCALENDAR