BEGIN:VCALENDAR
VERSION:2.0
PRODID:-//Tukios.com/
BEGIN:VEVENT
UID:1b48e28b-111a-4f1f-b49c-8e26eb7a9492@www.randallroberts.com
DTSTAMP:20260420T184600Z
DTSTART:20260424T170000Z
DTEND:20260424T180000Z
SUMMARY:Visitation
DESCRIPTION:
URL:https://www.randallroberts.com/obituaries/susan-scott
LOCATION:Randall & Roberts Funeral Center 1685 Westfield Rd  Noblesville 
	IN 46062
GEO:40.0428562;-86.0476892
END:VEVENT
END:VCALENDAR