BEGIN:VCALENDAR
VERSION:2.0
PRODID:-//Tukios.com/
BEGIN:VEVENT
UID:452fa161-5e70-49bd-b52d-82b7e8387cc4@www.randallroberts.com
DTSTAMP:20260421T163717Z
DTSTART:20260424T210000Z
DTEND:20260424T220000Z
SUMMARY:Funeral Service
DESCRIPTION:
URL:https://www.randallroberts.com/obituaries/bette-wechsler
LOCATION:Randall & Roberts Fishers Mortuary 12010 Allisonville Rd  
	Fishers IN 46038
GEO:39.9634496;-86.0383933
END:VEVENT
END:VCALENDAR