BEGIN:VCALENDAR
VERSION:2.0
PRODID:-//Tukios.com/
BEGIN:VEVENT
UID:fb2e7794-a72f-458d-9dd5-953141e84076@www.randallroberts.com
DTSTAMP:20260421T163220Z
DTSTART:20260424T190000Z
DTEND:20260424T210000Z
SUMMARY:Visitation
DESCRIPTION:
URL:https://www.randallroberts.com/obituaries/bette-wechsler
LOCATION:Randall & Roberts Fishers Mortuary 12010 Allisonville Rd  
	Fishers IN 46038
GEO:39.9634496;-86.0383933
END:VEVENT
END:VCALENDAR