BEGIN:VCALENDAR
VERSION:2.0
PRODID:-//Tukios.com/
BEGIN:VEVENT
UID:8669291e-da56-47cf-b224-d1c78bbb913d@www.randallroberts.com
DTSTAMP:20260424T172220Z
DTSTART:20260428T200000Z
DTEND:20260428T210000Z
SUMMARY:Funeral Service
DESCRIPTION:
URL:https://www.randallroberts.com/obituaries/annie-noel
LOCATION:Randall & Roberts Funeral Center 1685 Westfield Rd  Noblesville 
	IN 46062
GEO:40.0428562;-86.0476892
END:VEVENT
END:VCALENDAR