BEGIN:VCALENDAR
VERSION:2.0
PRODID:-//Tukios.com/
BEGIN:VEVENT
UID:eafe6847-2865-4e3d-86ac-6682773b8979@www.randallroberts.com
DTSTAMP:20260424T172506Z
DTSTART:20260428T180000Z
DTEND:20260428T200000Z
SUMMARY:Visitation
DESCRIPTION:
URL:https://www.randallroberts.com/obituaries/annie-noel
LOCATION:Randall & Roberts Funeral Center 1685 Westfield Rd  Noblesville 
	IN 46062
GEO:40.0428562;-86.0476892
END:VEVENT
END:VCALENDAR